BEGIN:VCALENDAR
VERSION:2.0
PRODID:-//wp-events-plugin.com//7.1.7//EN
TZID:Europe/Paris
X-WR-TIMEZONE:Europe/Paris
BEGIN:VEVENT
UID:1-790@carcassonne-agglo.fr
DTSTART:20251122T153000Z
DTEND:20251122T235959Z
DTSTAMP:20251112T110158Z
URL:https://www.carcassonne-agglo.fr/evenements/atelier-calligraphie-chino
 ise-2/
SUMMARY:ATELIER CALLIGRAPHIE CHINOISE
DESCRIPTION:À partir de 7 ans - sur inscription
ATTACH;FMTTYPE=image/jpeg:https://www.carcassonne-agglo.fr/app/uploads/202
 5/11/caligraphie.jpg
CATEGORIES:Culture,Médiatheque,Stage / Atelier
END:VEVENT
END:VCALENDAR