BEGIN:VCALENDAR
VERSION:2.0
PRODID:-//wp-events-plugin.com//7.1.7//EN
TZID:Europe/Paris
X-WR-TIMEZONE:Europe/Paris
BEGIN:VEVENT
UID:0-761@carcassonne-agglo.fr
DTSTART:20251210T143000Z
DTEND:20251210T163000Z
DTSTAMP:20251029T145300Z
URL:https://www.carcassonne-agglo.fr/evenements/atelier-creatif-et-lecture
 s/
SUMMARY:ATELIER CREATIF ET LECTURES
DESCRIPTION:Nos nombreuses histoires et manuels de création pourront vous 
 inspirer et embellir votre sapin !\nPour les enfants de 5 à 9 ans\, sur i
 nscription
ATTACH;FMTTYPE=image/jpeg:https://www.carcassonne-agglo.fr/app/uploads/202
 5/09/vignette-ateliers-pennautier_max0x600.jpg
CATEGORIES:Médiatheque
END:VEVENT
END:VCALENDAR