BEGIN:VCALENDAR
VERSION:2.0
PRODID:-//wp-events-plugin.com//7.1.7//EN
TZID:Europe/Paris
X-WR-TIMEZONE:Europe/Paris
BEGIN:VEVENT
UID:0-787@carcassonne-agglo.fr
DTSTART:20251211T140000Z
DTEND:20251211T153000Z
DTSTAMP:20251110T230523Z
URL:https://www.carcassonne-agglo.fr/evenements/ateliers-artistiques-avec-
 zarno-3/
SUMMARY:ATELIERS ARTISTIQUES AVEC ZARNO
DESCRIPTION:Ateliers avec Zarno\, artiste patamodeleur.\n- Réalisation en 
 pâte à modeler d’un personnage ou animal\n- Travail sur le mélange de
  couleurs et les volumes\nSur inscription
ATTACH;FMTTYPE=image/jpeg:https://www.carcassonne-agglo.fr/app/uploads/202
 5/10/Ateliers-avec-Zarno.jpg
CATEGORIES:Culture,Sculpture,Stage / Atelier
END:VEVENT
END:VCALENDAR