BEGIN:VCALENDAR
VERSION:2.0
PRODID:-//wp-events-plugin.com//7.1.7//EN
TZID:Europe/Paris
X-WR-TIMEZONE:Europe/Paris
BEGIN:VEVENT
UID:0-771@carcassonne-agglo.fr
DTSTART:20251003T100000Z
DTEND:20251219T120000Z
DTSTAMP:20251218T124537Z
URL:https://www.carcassonne-agglo.fr/evenements/ateliers-declic/
SUMMARY:ATELIERS DÉCLIC
DESCRIPTION:Vous souhaitez vous mettre à l'informatique ?  Vous aimeriez
  être accompagné afin de progresser dans votre utilisation quotidienne d
 es outils numériques ? Aujourd'hui\, c'est possible grâce aux "Ateliers
  Déclics" encadrés par nos bibliothécaires !
ATTACH;FMTTYPE=image/jpeg:https://www.carcassonne-agglo.fr/app/uploads/202
 5/10/declics-415x277_max0x600.jpg
CATEGORIES:Médiatheque
END:VEVENT
END:VCALENDAR