BEGIN:VCALENDAR
VERSION:2.0
PRODID:-//wp-events-plugin.com//7.1.7//EN
TZID:Europe/Paris
X-WR-TIMEZONE:Europe/Paris
BEGIN:VEVENT
UID:0-774@carcassonne-agglo.fr
DTSTART:20251105T090000Z
DTEND:20251105T120000Z
DTSTAMP:20251029T143928Z
URL:https://www.carcassonne-agglo.fr/evenements/chaque-voix-compte/
SUMMARY:CHAQUE VOIX COMPTE
DESCRIPTION:Venez donner vos voix\, lors de&nbsp\;lectures de textes&nbsp\;
 choisis&nbsp\;par les bibliothécaire et en rapport avec la thématique "V
 illes et campagnes" des Nuits de la Lecture de janvier 2026.\nNous vous pr
 oposons d'enregistrer une lecture\, collectée puis compilée avec celles 
 des autres participants. Elles seront proposées à l’écoute publique\,
  via une plateforme numérique et un point d’écoute\, à la médiathèq
 ue Grain d'Sel\, au mois de janvier. Échauffez votre voix et entrer dans 
 le&nbsp\;cercle des narrateurs de livre lus.\nInscription obligatoire.
ATTACH;FMTTYPE=image/jpeg:https://www.carcassonne-agglo.fr/app/uploads/202
 5/10/nuit-lecture-vignette-enregistrements.jpg
CATEGORIES:Littérature,Médiatheque,Stage / Atelier
END:VEVENT
END:VCALENDAR