BEGIN:VCALENDAR
VERSION:2.0
PRODID:-//wp-events-plugin.com//7.1.7//EN
TZID:Europe/Paris
X-WR-TIMEZONE:Europe/Paris
BEGIN:VEVENT
UID:0-793@carcassonne-agglo.fr
DTSTART:20251206T110000Z
DTEND:20251206T123000Z
DTSTAMP:20251114T104330Z
URL:https://www.carcassonne-agglo.fr/evenements/creation-dhistoires-de-noe
 l/
SUMMARY:CRÉATION D'HISTOIRES DE NOËL
DESCRIPTION:Jeunes gens ! Rejoignez notre équipe de penseurs\, nous avons 
 besoin de vous pour créer une histoire de toutes pièces. Noël arrive et
  les grandes personnes sont un peu perdues\, aidez nous à leur raconter u
 ne histoire pour que la fête soit réussie !Avec Marion Calas\nDe 5 à 7 
 ans - Sur inscription
ATTACH;FMTTYPE=image/jpeg:https://www.carcassonne-agglo.fr/app/uploads/202
 5/11/Histoires-contees_max0x600.jpg
CATEGORIES:Médiatheque,Stage / Atelier
END:VEVENT
END:VCALENDAR