BEGIN:VCALENDAR
VERSION:2.0
PRODID:-//wp-events-plugin.com//7.1.7//EN
TZID:Europe/Paris
X-WR-TIMEZONE:Europe/Paris
BEGIN:VEVENT
UID:0-755@carcassonne-agglo.fr
DTSTART;VALUE=DATE:20251007
DTEND;VALUE=DATE:20251019
DTSTAMP:20250828T145032Z
URL:https://www.carcassonne-agglo.fr/evenements/fourmiliere-geante-fete-de
 -la-science/
SUMMARY:Fourmilière géante -Fête de la science
DESCRIPTION:&nbsp\;Observez\, à travers ce vivarium\, le comportement fasc
 inant de ces insectes sociaux vivants en colonie où chaque individu a un 
 rôle particulier et une mission à remplir.&nbsp\;\nLes vivariums sont vi
 trés et reliés par des tubes transparents permettant de voir la fourmili
 ère en coupe et le cheminement des fourmis.
ATTACH;FMTTYPE=image/jpeg:https://www.carcassonne-agglo.fr/app/uploads/202
 5/07/Fourmis-Mediatheque.jpg
CATEGORIES:Médiatheque
END:VEVENT
END:VCALENDAR