BEGIN:VCALENDAR
VERSION:2.0
PRODID:-//wp-events-plugin.com//7.1.7//EN
TZID:Europe/Paris
X-WR-TIMEZONE:Europe/Paris
BEGIN:VEVENT
UID:0-792@carcassonne-agglo.fr
DTSTART:20251206T170000Z
DTEND:20251206T235959Z
DTSTAMP:20251114T104256Z
URL:https://www.carcassonne-agglo.fr/evenements/histoire-contee/
SUMMARY:HISTOIRE CONTÉE
DESCRIPTION:Vanille et Grenadine sont 2 copines inséparables et leur passe
 -temps favori\, c’est se promener dans le jardin des fées et se raconte
 r leurs histoires préférées ! L'histoire se passe juste après Noël. A
 lors que Vanille et Grenadine l’ont fêté chacune de leur côté\, elle
 s ont hâte de se retrouver pour tout se raconter…Mais cette fois-ci\, u
 ne chose étrange arrive… L'atelier de Fée Noël\, habituellement cach
 é\, est à découvert\, et la fée du S.A.N semble bien déboussolée… 
 Vanille et Grenadine vont-elles parvenir à l’aider ?Avec Marion Calas\n
 Tout public - Sur inscription
ATTACH;FMTTYPE=image/jpeg:https://www.carcassonne-agglo.fr/app/uploads/202
 5/11/histoire-de-Noel_max0x600.jpg
CATEGORIES:Médiatheque,Stage / Atelier
END:VEVENT
END:VCALENDAR