BEGIN:VCALENDAR
VERSION:2.0
PRODID:-//wp-events-plugin.com//7.1.7//EN
TZID:Europe/Paris
X-WR-TIMEZONE:Europe/Paris
BEGIN:VEVENT
UID:0-779@carcassonne-agglo.fr
DTSTART:20251126T150000Z
DTEND:20251126T235959Z
DTSTAMP:20251120T093134Z
URL:https://www.carcassonne-agglo.fr/evenements/histoires-de-noel-complete
 ment-givrees/
SUMMARY:[ANNULÉ] HISTOIRES DE NOËL COMPLETEMENT GIVREES
DESCRIPTION:Les enfants sont invités à inventer ensemble une histoire de 
 Noël… totalement givrée ! Chacun ajoute sa touche personnelle\, sans c
 onnaître toute l’histoire des autres\, pour créer un récit plein de s
 urprises. Fous rires garantis devant les aventures loufoques du Père Noë
 l et de ses amis ! Une activité ludique qui stimule l’imagination et l
 ’écriture collective dans l’esprit des fêtes.\nAnnulé
ATTACH;FMTTYPE=image/jpeg:https://www.carcassonne-agglo.fr/app/uploads/202
 5/10/histoires-givrees_max0x600.jpg
CATEGORIES:Littérature,Médiatheque
END:VEVENT
END:VCALENDAR