BEGIN:VCALENDAR
VERSION:2.0
PRODID:-//wp-events-plugin.com//7.1.7//EN
TZID:Europe/Paris
X-WR-TIMEZONE:Europe/Paris
BEGIN:VEVENT
UID:0-775@carcassonne-agglo.fr
DTSTART:20251108T170000Z
DTEND:20251108T210000Z
DTSTAMP:20251029T144144Z
URL:https://www.carcassonne-agglo.fr/evenements/initiation-jeu-de-role-the
 -walking-dead/
SUMMARY:INITIATION JEU DE ROLE - THE WALKING DEAD
DESCRIPTION:Immergez vous dans un scénario dont vous êtes l’acteur prin
 cipal\, un véritable film qui se construit et se développe en fonction d
 e vos choix.\nIl fera appel à votre logique\, votre réflexion et votre e
 sprit d’équipe… plus que nécessaire pour arriver au terme d’une av
 enture faisant la part belle aux tranches de zombies et courses mortelles.
 \nA partir de 16 ans\, sur inscription.
ATTACH;FMTTYPE=image/jpeg:https://www.carcassonne-agglo.fr/app/uploads/202
 5/10/Initiation-Jeu-de-role-The-Walking-Dead.jpg
CATEGORIES:Jeux,Médiatheque
END:VEVENT
END:VCALENDAR