BEGIN:VCALENDAR
VERSION:2.0
PRODID:-//wp-events-plugin.com//7.1.7//EN
TZID:Europe/Paris
X-WR-TIMEZONE:Europe/Paris
BEGIN:VEVENT
UID:1-769@carcassonne-agglo.fr
DTSTART;VALUE=DATE:20250912
DTEND;VALUE=DATE:20250926
DTSTAMP:20250922T093957Z
URL:https://www.carcassonne-agglo.fr/evenements/journees-europeennes-du-pa
 trimoine-2/
SUMMARY:JOURNEES EUROPEENNES DU PATRIMOINE
DESCRIPTION:Le département de l’Aude porte candidature pour l’inscript
 ion au patrimoine mondial de l’UNESCO des forteresses royales du Langued
 oc dont l’examen devrait aboutir en juillet 2026. Ces huit monuments –
  le château et les remparts de la cité Carcassonne\, ainsi que les chât
 eaux d’Aguilar\, Lastours\, Peyrepertuse\, Puylaurens\, Quéribus\, Term
 es et Montségur en Ariège – offrent un témoignage exceptionnel de l
 ’architecture militaire médiévale.\nSurtout\, ils interrogent notre ca
 pacité à préserver un patrimoine emblématique tout en répondant aux e
 njeux contemporains&nbsp\;: transmission d’un héritage aux génération
 s futures\, mais aussi exigences d’un aménagement du territoire moderne
  et durable.&nbsp\;Une présentation de documents\, conservés au titre de
 s fonds patrimoniaux\,&nbsp\;vous&nbsp\;permettra de mesurer l’évolutio
 n des sites concernés.
ATTACH;FMTTYPE=image/jpeg:https://www.carcassonne-agglo.fr/app/uploads/202
 5/09/Affiche-JEP_307x217.jpg
CATEGORIES:Patrimoine
END:VEVENT
END:VCALENDAR