BEGIN:VCALENDAR
VERSION:2.0
PRODID:-//wp-events-plugin.com//7.1.7//EN
TZID:Europe/Paris
X-WR-TIMEZONE:Europe/Paris
BEGIN:VEVENT
UID:0-789@carcassonne-agglo.fr
DTSTART:20251119T140000Z
DTEND:20251217T235959Z
DTSTAMP:20251103T093633Z
URL:https://www.carcassonne-agglo.fr/evenements/lecture-dalbums-noel-et-jo
 ies-de-lhiver-2/
SUMMARY:LECTURE D’ALBUMS « NOËL ET JOIES DE L’HIVER »
DESCRIPTION:Installez-vous bien au chaud pour découvrir une sélection d
 ’albums pleins de douceur et de magie hivernale. Entre flocons et momen
 ts partagés\, les histoires invitent à célébrer l’esprit de Noël et
  les petits bonheurs de l’hiver.\nÀ partir de 6 ans - Sur inscription
ATTACH;FMTTYPE=image/jpeg:https://www.carcassonne-agglo.fr/app/uploads/202
 5/11/LECTURE-DALBUMS-NOEL-ET-JOIES-DE-LHIVER-Vignette.jpg
CATEGORIES:Jeux,Médiatheque,Stage / Atelier
END:VEVENT
END:VCALENDAR