BEGIN:VCALENDAR
VERSION:2.0
PRODID:-//wp-events-plugin.com//7.1.7//EN
TZID:Europe/Paris
X-WR-TIMEZONE:Europe/Paris
BEGIN:VEVENT
UID:0-782@carcassonne-agglo.fr
DTSTART:20251210T150000Z
DTEND:20251210T235959Z
DTSTAMP:20251029T145202Z
URL:https://www.carcassonne-agglo.fr/evenements/lecture-de-noel-sens-dessu
 s-dessous/
SUMMARY:LECTURE DE NOËL SENS DESSUS-DESSOUS
DESCRIPTION:Entre rires et frissons glacés\, les enfants plongeront dans u
 n univers givré où la magie de Noël prend des airs déjantés. Une anim
 ation joyeuse pour partager un moment chaleureux en famille.\nTout public\
 , sur inscription
ATTACH;FMTTYPE=image/jpeg:https://www.carcassonne-agglo.fr/app/uploads/202
 5/10/Lecture-de-Noel-sens-dessus-dessous_max0x600.jpg
CATEGORIES:Littérature,Médiatheque
END:VEVENT
END:VCALENDAR