BEGIN:VCALENDAR
VERSION:2.0
PRODID:-//wp-events-plugin.com//7.1.7//EN
TZID:Europe/Paris
X-WR-TIMEZONE:Europe/Paris
BEGIN:VEVENT
UID:0-784@carcassonne-agglo.fr
DTSTART:20251217T103000Z
DTEND:20251217T235959Z
DTSTAMP:20251029T144757Z
URL:https://www.carcassonne-agglo.fr/evenements/lecture-et-atelier-creatif
 -de-noel-2/
SUMMARY:LECTURE ET ATELIER CREATIF DE NOËL
DESCRIPTION:Après ce moment de découverte\, les enfants réaliseront un m
 arque-page de Noël unique et coloré. Entre papiers scintillants\, rubans
  et créativité\, chacun repartira avec sa petite œuvre personnalisée. 
 Une activité pour célébrer la lecture et la magie des fêtes !\nA parti
 r de 5 ans\, sur inscription
ATTACH;FMTTYPE=image/jpeg:https://www.carcassonne-agglo.fr/app/uploads/202
 5/10/marque-pages-le-chai_max0x600.jpg
CATEGORIES:Littérature,Médiatheque,Stage / Atelier
END:VEVENT
END:VCALENDAR