BEGIN:VCALENDAR
VERSION:2.0
PRODID:-//wp-events-plugin.com//7.1.7//EN
TZID:Europe/Paris
X-WR-TIMEZONE:Europe/Paris
BEGIN:VEVENT
UID:0-781@carcassonne-agglo.fr
DTSTART:20251203T103000Z
DTEND:20251203T235959Z
DTSTAMP:20251029T145351Z
URL:https://www.carcassonne-agglo.fr/evenements/lecture-et-atelier-creatif
 -de-noel/
SUMMARY:LECTURE ET ATELIER CREATIF DE NOËL
DESCRIPTION:Plongez dans la magie de Noël avec une belle lecture d’histo
 ires hivernales et féeriques. Les enfants découvriront l’univers du P
 ère Noël avant de créer leur propre lettre décorée. Entre imagination
 \, écriture et créativité\, chacun pourra exprimer ses vœux les plus c
 hers. Un moment chaleureux et festif à partager en famille !\nA partir de
  5 ans\, sur inscription.
ATTACH;FMTTYPE=image/jpeg:https://www.carcassonne-agglo.fr/app/uploads/202
 5/10/lecture-de-Noel-Chai_max0x600.jpg
CATEGORIES:Jeux,Littérature,Médiatheque,Stage / Atelier
END:VEVENT
END:VCALENDAR