BEGIN:VCALENDAR
VERSION:2.0
PRODID:-//wp-events-plugin.com//7.1.7//EN
TZID:Europe/Paris
X-WR-TIMEZONE:Europe/Paris
BEGIN:VEVENT
UID:0-778@carcassonne-agglo.fr
DTSTART:20251122T150000Z
DTEND:20251122T235959Z
DTSTAMP:20251029T145704Z
URL:https://www.carcassonne-agglo.fr/evenements/lecture-jeunesse-bilingue-
 chinois-francais/
SUMMARY:LECTURE JEUNESSE BILINGUE CHINOIS/FRANÇAIS
DESCRIPTION:A partir de 5 ans\, sur inscription.
ATTACH;FMTTYPE=image/jpeg:https://www.carcassonne-agglo.fr/app/uploads/202
 5/10/Atelier-calligraphie-chinoise-lecture-bilingue.jpg
CATEGORIES:Littérature,Médiatheque
END:VEVENT
END:VCALENDAR