BEGIN:VCALENDAR
VERSION:2.0
PRODID:-//wp-events-plugin.com//7.1.7//EN
TZID:Europe/Paris
X-WR-TIMEZONE:Europe/Paris
BEGIN:VEVENT
UID:0-780@carcassonne-agglo.fr
DTSTART:20251127T180000Z
DTEND:20251127T200000Z
DTSTAMP:20251021T131427Z
URL:https://www.carcassonne-agglo.fr/evenements/les-actualites-des-societe
 s-savantes/
SUMMARY:LES ACTUALITES DES SOCIETES SAVANTES
DESCRIPTION:Rencontre autour de quatre sociétés savantes dans le but de p
 résenter leurs actualités respectives.Les sociétés savantes invitées 
 sont :&nbsp\;\nAcadémie des Arts et des Sciences\nSociété d’Études S
 cientifiques de l'Aude (SESA)\nPatrimoines\, vallées des Cabardès\nHisto
 ire et Généalogie en Minervois
ATTACH;FMTTYPE=image/jpeg:https://www.carcassonne-agglo.fr/app/uploads/202
 5/10/societes-savantes-vignette.jpg
CATEGORIES:Médiatheque,Patrimoine
END:VEVENT
END:VCALENDAR