BEGIN:VCALENDAR
VERSION:2.0
PRODID:-//wp-events-plugin.com//7.1.7//EN
TZID:Europe/Paris
X-WR-TIMEZONE:Europe/Paris
BEGIN:VEVENT
UID:1-767@carcassonne-agglo.fr
DTSTART:20251002T180000Z
DTEND:20251002T235959Z
DTSTAMP:20250922T090605Z
URL:https://www.carcassonne-agglo.fr/evenements/rencontre-avec-florian-ver
 net/
SUMMARY:Rencontre avec Florian Vernet
DESCRIPTION:Sa dernière publication\, "Anamorfosis"\, aux éditions E... r
 au edicions en 2024\, est un recueil de 19 nouvelles autour de nombreux th
 èmes\, le temps\, la mémoire\, les amours perdus et retrouvés… Entre 
 journaux intimes et récits du moyen-âge\, cauchemars et phobies\, ces di
 x-neuf nouvelles forment un ensemble baroque\, noir\, plein de gouaille et
  de tendresse.\nEn occitan languedocien et&nbsp\;dans le cadre de de la re
 ntrée littéraire occitane&nbsp\;Escritura\,&nbsp\;de l' Institut d'Étud
 es Occitanes.
ATTACH;FMTTYPE=image/jpeg:https://www.carcassonne-agglo.fr/app/uploads/202
 5/09/vignette-Vernet_max0x600.jpg
CATEGORIES:Médiatheque
END:VEVENT
END:VCALENDAR