BEGIN:VCALENDAR
VERSION:2.0
PRODID:-//wp-events-plugin.com//7.1.7//EN
TZID:Europe/Paris
X-WR-TIMEZONE:Europe/Paris
BEGIN:VEVENT
UID:0-776@carcassonne-agglo.fr
DTSTART:20251108T170000Z
DTEND:20251108T210000Z
DTSTAMP:20251029T144528Z
URL:https://www.carcassonne-agglo.fr/evenements/soiree-jeux/
SUMMARY:SOIREE JEUX
DESCRIPTION:Si vous avez un jeu qui vous tient particulièrement à cœur\,
 &nbsp\;signalez le nous afin de le réserver et préparer pour la soirée.
 \nRestauration sur place autorisée et à partager selon l’envie.\nA par
 tir de 7 ans\, sur inscription.
ATTACH;FMTTYPE=image/jpeg:https://www.carcassonne-agglo.fr/app/uploads/202
 5/10/Soiree-jeux.jpg
CATEGORIES:Jeux,Médiatheque
END:VEVENT
END:VCALENDAR