BEGIN:VCALENDAR
VERSION:2.0
PRODID:-//wp-events-plugin.com//7.1.7//EN
TZID:Europe/Paris
X-WR-TIMEZONE:Europe/Paris
BEGIN:VEVENT
UID:0-791@carcassonne-agglo.fr
DTSTART;VALUE=DATE:20251202
DTEND;VALUE=DATE:20251225
DTSTAMP:20251218T125346Z
URL:https://www.carcassonne-agglo.fr/evenements/une-surprise-par-jour/
SUMMARY:CALENDRIER DE L'AVENT
DESCRIPTION:Ouvrez le tiroir du Calendrier de l’Avent et découvrez la p
 épite sélectionnée par les bibliothécaires pour faire patienter\, peti
 ts et grands\, avant le jour J !
ATTACH;FMTTYPE=image/jpeg:https://www.carcassonne-agglo.fr/app/uploads/202
 5/11/remplacement-c.avent_.jpg
CATEGORIES:Médiatheque
END:VEVENT
END:VCALENDAR